BEGIN:VCALENDAR
VERSION:2.0
PRODID:-//Escuela Internacional Waldorf Valencia - ECPv6.3.7//NONSGML v1.0//EN
CALSCALE:GREGORIAN
METHOD:PUBLISH
X-WR-CALNAME:Escuela Internacional Waldorf Valencia
X-ORIGINAL-URL:https://escuelawaldorfvalencia.com
X-WR-CALDESC:Eventos para Escuela Internacional Waldorf Valencia
REFRESH-INTERVAL;VALUE=DURATION:PT1H
X-Robots-Tag:noindex
X-PUBLISHED-TTL:PT1H
BEGIN:VTIMEZONE
TZID:Europe/Madrid
BEGIN:DAYLIGHT
TZOFFSETFROM:+0100
TZOFFSETTO:+0200
TZNAME:CEST
DTSTART:20250330T010000
END:DAYLIGHT
BEGIN:STANDARD
TZOFFSETFROM:+0200
TZOFFSETTO:+0100
TZNAME:CET
DTSTART:20251026T010000
END:STANDARD
BEGIN:DAYLIGHT
TZOFFSETFROM:+0100
TZOFFSETTO:+0200
TZNAME:CEST
DTSTART:20260329T010000
END:DAYLIGHT
BEGIN:STANDARD
TZOFFSETFROM:+0200
TZOFFSETTO:+0100
TZNAME:CET
DTSTART:20261025T010000
END:STANDARD
END:VTIMEZONE
BEGIN:VEVENT
DTSTART;TZID=Europe/Madrid:20251025T000000
DTEND;TZID=Europe/Madrid:20260607T235959
DTSTAMP:20260423T233541
CREATED:20251014T103644Z
LAST-MODIFIED:20251014T104319Z
UID:12223-1761350400-1780876799@escuelawaldorfvalencia.com
SUMMARY:2ºcurso formación en pedagogía Waldorf-Steiner
DESCRIPTION:Este mes de octubre da comienzo el 2º curso de la formación en pedagogía Waldorf-Steiner. El plazo de inscripción sigue abierto y si estáis interesados en asistir a algún módulo en concreto también es posible. \n\n\n\nEs una formación dirigida a maestros\, educadores\, padres y madres que tengan el deseo de profundizar en el conocimiento de la Pedagogía Waldorf para poder acompañar a los niños y niñas desde otra mirada\, adquiriendo nuevas destrezas\, cualidades y capacidades gracias al conocimiento del Ser Humano desde una visión más holística y a través de la vivencia de experiencias llenas de Bondad\, Belleza y Verdad\, las cuales están latentes en las canciones\, narraciones\, poemas y prácticas en general propias de la Pedagogía Waldorf y que tendremos la oportunidad de vivenciar a lo largo de estos tres años. \n\n\n\nAsí mismo\, esta formación también va dirigida a cualquier persona que tenga interés en iniciar un camino de autoconocimiento personal a través de la Pedagogía. La imagen del Hombre\, el estudio de los Temperamentos\, los doce Sentidos\, la Biografía Humana\, entre otros temas\, nos ayudarán a conocernos mejor a nosotros mismos así como a todas las personas con las que nos relacionamos en nuestro día a día\, sanando aquellas heridas y traumas de nuestro pasado y adquiriendo nuevas fuerzas para el futuro desde nuestro trabajo hoy. \n\n\n\n \n\n\n\n✨ Ponentes con una gran trayectoria en el ámbito de la Antroposofía y en la formación de maestros en Pedagogía Waldorf.✨ Metodología vivencial : actividades artísticas\, rítmicas\, Euritmia\, etc.✨ Temas que te permiten profundizar en el conocimiento de uno mismo (autoeducación)\, así como en el estudio del niño desde el conocimiento de los septenios y la biografía.✨ Grupos reducidos y posibilidad de hacer prácticas en una escuela Waldorf.✨ La única formación Waldorf en Valencia reconocida por la Asociación de Centros Waldorf. \n\n\n\n \n\n\n\nSi estás interesado visita la web https://waldorfvalencia.com/ o escribe a formacion@waldorfvalencia.com
URL:https://escuelawaldorfvalencia.com/evento/comenzamos-la-formacion-en-pedagogia-waldorf-steiner/
CATEGORIES:Formación
ATTACH;FMTTYPE=image/jpeg:https://escuelawaldorfvalencia.com/wp-content/uploads/2021/11/WhatsApp-Image-2025-07-11-at-19.52.00.jpeg
END:VEVENT
BEGIN:VEVENT
DTSTART;TZID=Europe/Madrid:20260227T153000
DTEND;TZID=Europe/Madrid:20260522T153000
DTSTAMP:20260423T233541
CREATED:20260113T131140Z
LAST-MODIFIED:20260212T121429Z
UID:12402-1772206200-1779463800@escuelawaldorfvalencia.com
SUMMARY:Jornadas de puertas abiertas
DESCRIPTION:Si estás interesado/a en conocer nuestra escuela\, te invitamos a participar en nuestras Jornadas de puertas abiertas\, pensadas para familias que desean informarse sobre el próximo curso o siguientes. \n\n\n\nDurante el encuentro podrás descubrir nuestro proyecto pedagógico\, conocer cómo acompañamos el aprendizaje en las diferentes etapas educativas y resolver todas tus dudas así como visitar la escuela y conocer los espacios.  \n\n\n\nInscríbete a través del formulario seleccionando la fecha que mejor te encaje y estaremos encantados de recibiros. \n\n\n\nRecuerda: Si deseas formar parte de nuestra lista de espera\, puedes rellenar el formulario disponible en la sección “ADMISIONES”. \n\n\n\n\n\n\n\nIf you are interested in getting to know our school\, we warmly invite you to attend one of our Open Days\, designed for families who would like to learn more about the upcoming school year or future years.During the visit\, you will have the opportunity to discover our educational approach\, learn how we support learning across the different stages\, and ask any questions you may have. You will also be able to tour the school and explore our spaces.Please register using the form\, selecting the date that best suits you\, and we will be delighted to welcome you.Please note: if you would like to be included on our waiting list\, you can fill out the form available in the “ADMISSIONS” section.  \n\n\n\n\n\n\n\nPróxima jornada\n\n\n\n\n\nFormulario de inscripciónPor favor\, activa JavaScript en tu navegador para completar este formulario.Nombre y apellido *Email *TeléfonoFecha *Selecciona una fecha según tu disponibilidad27 de febrero 15:30h27 de marzo 15:30h17 de abril 15:30h22 de mayo 15:30h¿Para qué etapa buscas plaza escolar? Si vienes con otro adulto y queréis asistir cada uno a una charla en diferentes niveles educativos\, por favor cumplimenta otro formulario con tus datos. *E. Infantil 3-5 añosE. Primaria 6-12 añosE. Secundaria 13-16 añosEstoy interesado en una plaza para:  *Selecciona un curso escolarCurso 2025/2026Curos 2026/2027Próximos cursosIdioma de la charla pedagógica *Selecciona el idioma que necesites para atender a la charla EspañolInglés¿Asisten actualmente a una escuela Waldorf? *Para poder organizarnos mejor\, por favor cuéntanos un poco más sobre los asistentes. Marca tantas opciones como necesites. Iremos:  *1 adulto2 adultosniño/a (0-5 años)niño/a (0-5 años)niño/a (+6 años)niño/a (+6 años)Política de privacidad *He leído y acepto la política de privacidadRealizar inscripción  \n\n\n\n\n\n\nInformación Básica sobre Protección de Datos: \n\n\n\nResponsable: FUNDACIÓN WALDORF VALENCIA DE LA COMUNITAT VALENCIANA    \n\n\n\nFinalidad de la recogida y tratamiento de los datos personales: gestionar la solicitud que realizas en este formulario de contacto. \n\n\n\nDerechos: Podrás ejercer tus derechos de acceso\, rectificación\, limitación y suprimir los datos en info@escuelawaldorfvalencia.com así como el derecho a presentar una reclamación ante una autoridad de control. \n\n\n\nInformación adicional: En la Política de Privacidad de ESCUELAWALDORFVALENCIA.COM encontrarás información adicional sobre la recopilación y el uso de su información personal por parte de ESCUELAWALDORFVALENCIA.COM\, incluida información sobre acceso\, conservación\, rectificación\, eliminación\, seguridad y otros temas.
URL:https://escuelawaldorfvalencia.com/evento/jornadas-de-puertas-abiertas-2023/
CATEGORIES:evento,Jornada de puertas abiertas
ATTACH;FMTTYPE=image/jpeg:https://escuelawaldorfvalencia.com/wp-content/uploads/2026/01/Jornada-de-puertas-abiertas-2026.jpg
END:VEVENT
BEGIN:VEVENT
DTSTART;TZID=Europe/Madrid:20260303T150000
DTEND;TZID=Europe/Madrid:20260505T150000
DTSTAMP:20260423T233541
CREATED:20251014T080352Z
LAST-MODIFIED:20260212T121154Z
UID:12794-1772550000-1777993200@escuelawaldorfvalencia.com
SUMMARY:Reuniones informativas on line ¡Fechas disponibles 2026!            Informative meetings 2026
DESCRIPTION:Si estás valorando nuestra escuela y quieres conocer de cerca nuestro proyecto pedagógico\, te invitamos a participar en nuestras próximas reuniones informativas online. \n\n\n\nEn este encuentro\, de aproximadamente una hora de duración\, compartiremos los fundamentos de nuestra propuesta educativa y cómo acompañamos el desarrollo y el aprendizaje en cada etapa. Será también un espacio para resolver dudas y acercarte\, de manera personal\, a la vida de la escuela. \n\n\n\nInscríbete a través de este formulario en la fecha que mejor se adapte a tu disponibilidad. Una vez confirmada la inscripción\, recibirás el enlace de acceso a la sesión. \n\n\n\nSi además deseas formar parte de nuestra lista de espera\, puedes completar el formulario disponible en la sección “ADMISIONES”. \n\n\n\n\n\n\n\nIf you are considering our school and would like to learn more about our educational approach\, we warmly invite you to join one of our upcoming online information meetings. \n\n\n\nDuring this one-hour session\, we will share the foundations of our educational project and explain how we support children’s development and learning at each stage. It will also be an opportunity to ask questions and get a more personal sense of school life. \n\n\n\nPlease register using this form for the date that best suits your availability. Once your registration is confirmed\, you will receive the link to join the session. \n\n\n\nIf you would also like to be included on our waiting list\, you can complete the form available in the “ADMISSIONS” section. \n\n\n\n \n\n\n\n\n\n\nPróxima reunión / Next meeting\n\n\n\n\n\nFormulario de inscripción \n\n\nPor favor\, activa JavaScript en tu navegador para completar este formulario.Nombre y apellido / Name *Email *Teléfono / TelephoneFecha / Date *Selecciona una fecha según tu disponibilidadTuesday March 3rd – 3:00pm (english session)Wednesday April 1st – 3:30pm (english session)Tuesday May 5th- 3:00pm (english session)¿En qué etapa escolar estás más interesado/a? / Wich educational stage are you most interested in? *E. Infantil 3-5 años / KindergartenE. Primaria 6-12 años / PrimaryE. Secundaria 13-16 años / SecondaryEstoy interesado en una plaza para / I'm interested in a place for school year:  *Selecciona un curso escolarSchool Year- Curso 2026/2027Upcoming courses / Próximos cursos¿Asisten actualmente tu hijo/s a una escuela Waldorf? / Do your children currently attend a Waldorf School?  *Política de privacidad *He leído y acepto la política de privacidadRealizar inscripción / Sign me up
URL:https://escuelawaldorfvalencia.com/evento/jornadas-de-puertas-abiertas-duplicate-1/
CATEGORIES:Charla
ATTACH;FMTTYPE=image/jpeg:https://escuelawaldorfvalencia.com/wp-content/uploads/2026/02/Informative-meetings-2026-nuevas-fechas.jpg
END:VEVENT
END:VCALENDAR