BEGIN:VCALENDAR
VERSION:2.0
PRODID:-//Escuela Internacional Waldorf Valencia - ECPv6.3.7//NONSGML v1.0//EN
CALSCALE:GREGORIAN
METHOD:PUBLISH
X-ORIGINAL-URL:https://escuelawaldorfvalencia.com
X-WR-CALDESC:Eventos para Escuela Internacional Waldorf Valencia
REFRESH-INTERVAL;VALUE=DURATION:PT1H
X-Robots-Tag:noindex
X-PUBLISHED-TTL:PT1H
BEGIN:VTIMEZONE
TZID:Europe/Madrid
BEGIN:DAYLIGHT
TZOFFSETFROM:+0100
TZOFFSETTO:+0200
TZNAME:CEST
DTSTART:20210328T010000
END:DAYLIGHT
BEGIN:STANDARD
TZOFFSETFROM:+0200
TZOFFSETTO:+0100
TZNAME:CET
DTSTART:20211031T010000
END:STANDARD
END:VTIMEZONE
BEGIN:VEVENT
DTSTART;TZID=Europe/Madrid:20210219T183000
DTEND;TZID=Europe/Madrid:20210219T200000
DTSTAMP:20260423T221305
CREATED:20210128T151537Z
LAST-MODIFIED:20251014T104837Z
UID:11409-1613759400-1613764800@escuelawaldorfvalencia.com
SUMMARY:El arte de poner límites
DESCRIPTION:Nos acompañará Sonia Kliass\, psicóloga formada en pedagogía Waldorf que cuenta con una dilatada experiencia en orientación a familias sobre el desarrollo\, autonomía\, respeto y límites en la primera infancia. Además\, es madre\, impulsora de un proyecto Waldorf en Girona y asesora a escuelas infantiles para construir una práctica educativa cada vez más consciente y respetuosa. En la charla nos hablará de la importancia de los límites en la educación\, de la dificultad que a veces encontramos para encontrar un equilibrio entre rigidez y permisividad\, de conceptos como autoridad\, obediencia…
URL:https://escuelawaldorfvalencia.com/evento/el-arte-de-poner-limites/
LOCATION:Escuela Internacional Waldorf Valencia\, Camino Cebolla\, 5\, El Puig de Santa María\, Valencia\, 46540\, España
CATEGORIES:Escuela de familias
ATTACH;FMTTYPE=image/jpeg:https://escuelawaldorfvalencia.com/wp-content/uploads/2021/01/la-importancia-de-los-límites-en-la-escuela-waldorf.jpg
ORGANIZER;CN="Escuela Internacional Waldorf Valencia":MAILTO:info@escuelawaldorfvalencia.com
END:VEVENT
END:VCALENDAR